BEGIN:VCALENDAR
VERSION:2.0
PRODID:-//Scripture Union Uganda - ECPv6.15.20//NONSGML v1.0//EN
CALSCALE:GREGORIAN
METHOD:PUBLISH
X-WR-CALNAME:Scripture Union Uganda
X-ORIGINAL-URL:https://suuganda.org
X-WR-CALDESC:Events for Scripture Union Uganda
REFRESH-INTERVAL;VALUE=DURATION:PT1H
X-Robots-Tag:noindex
X-PUBLISHED-TTL:PT1H
BEGIN:VTIMEZONE
TZID:UTC
BEGIN:STANDARD
TZOFFSETFROM:+0000
TZOFFSETTO:+0000
TZNAME:UTC
DTSTART:20230101T000000
END:STANDARD
END:VTIMEZONE
BEGIN:VEVENT
DTSTART;TZID=UTC:20240603T080000
DTEND;TZID=UTC:20240608T170000
DTSTAMP:20260420T170414
CREATED:20240521T101203Z
LAST-MODIFIED:20240521T101451Z
UID:54973-1717401600-1717866000@suuganda.org
SUMMARY:Kasese-Mission
DESCRIPTION:Kasese-Mission
URL:https://suuganda.org/event/kasese-mission/
END:VEVENT
BEGIN:VEVENT
DTSTART;TZID=UTC:20240601T080000
DTEND;TZID=UTC:20240614T170000
DTSTAMP:20260420T170414
CREATED:20240521T093521Z
LAST-MODIFIED:20240521T093521Z
UID:54967-1717228800-1718384400@suuganda.org
SUMMARY:Prayer and Fasting
DESCRIPTION:Prayer and Fasting
URL:https://suuganda.org/event/prayer-and-fasting/
END:VEVENT
BEGIN:VEVENT
DTSTART;VALUE=DATE:20240527
DTEND;VALUE=DATE:20240528
DTSTAMP:20260420T170414
CREATED:20240416T075413Z
LAST-MODIFIED:20240416T075439Z
UID:54935-1716768000-1716854399@suuganda.org
SUMMARY:starting of term Two-Nationwide
DESCRIPTION:Starting of term Two-Nationwide
URL:https://suuganda.org/event/starting-of-term-two-nationwide-2/
END:VEVENT
BEGIN:VEVENT
DTSTART;TZID=UTC:20240510T080000
DTEND;TZID=UTC:20240511T170000
DTSTAMP:20260420T170414
CREATED:20240124T121157Z
LAST-MODIFIED:20240124T121239Z
UID:54805-1715328000-1715446800@suuganda.org
SUMMARY:VOICE training- head office
DESCRIPTION:VOICE training- head office
URL:https://suuganda.org/event/voice-training-head-office/
END:VEVENT
BEGIN:VEVENT
DTSTART;TZID=UTC:20240503T080000
DTEND;TZID=UTC:20240509T170000
DTSTAMP:20260420T170414
CREATED:20240124T120542Z
LAST-MODIFIED:20240124T120613Z
UID:54798-1714723200-1715274000@suuganda.org
SUMMARY:camp/conference -country wide
DESCRIPTION:Camp/conference-country wide
URL:https://suuganda.org/event/camp-conference-country-wide/
END:VEVENT
BEGIN:VEVENT
DTSTART;TZID=UTC:20240503T080000
DTEND;TZID=UTC:20240506T170000
DTSTAMP:20260420T170414
CREATED:20240124T120952Z
LAST-MODIFIED:20240124T120956Z
UID:54803-1714723200-1715014800@suuganda.org
SUMMARY:Parton camp- Lira
DESCRIPTION:Parton camp-Lira
URL:https://suuganda.org/event/parton-camp-lira/
END:VEVENT
BEGIN:VEVENT
DTSTART;TZID=UTC:20240503T080000
DTEND;TZID=UTC:20240503T170000
DTSTAMP:20260420T170414
CREATED:20240124T120054Z
LAST-MODIFIED:20240124T120101Z
UID:54796-1714723200-1714755600@suuganda.org
SUMMARY:schools closing
DESCRIPTION:schools closing
URL:https://suuganda.org/event/schools-closing/
END:VEVENT
BEGIN:VEVENT
DTSTART;TZID=UTC:20240501T080000
DTEND;TZID=UTC:20240505T170000
DTSTAMP:20260420T170414
CREATED:20240124T120748Z
LAST-MODIFIED:20240124T120806Z
UID:54800-1714550400-1714928400@suuganda.org
SUMMARY:printing materials- head office
DESCRIPTION:Printing material-head office
URL:https://suuganda.org/event/printing-materials-head-office/
END:VEVENT
BEGIN:VEVENT
DTSTART;TZID=UTC:20240422T080000
DTEND;TZID=UTC:20240422T170000
DTSTAMP:20260420T170414
CREATED:20240124T115902Z
LAST-MODIFIED:20240124T115907Z
UID:54794-1713772800-1713805200@suuganda.org
SUMMARY:staff meeting
DESCRIPTION:staff meeting
URL:https://suuganda.org/event/staff-meeting/
END:VEVENT
BEGIN:VEVENT
DTSTART;TZID=UTC:20240408T080000
DTEND;TZID=UTC:20240414T170000
DTSTAMP:20260420T170414
CREATED:20240124T115719Z
LAST-MODIFIED:20240124T115736Z
UID:54792-1712563200-1713114000@suuganda.org
SUMMARY:mission-kayunga
DESCRIPTION:mission- kayunga
URL:https://suuganda.org/event/mission-kayunga/
END:VEVENT
BEGIN:VEVENT
DTSTART;TZID=UTC:20240329T080000
DTEND;TZID=UTC:20240403T170000
DTSTAMP:20260420T170414
CREATED:20240124T115346Z
LAST-MODIFIED:20240124T115353Z
UID:54790-1711699200-1712163600@suuganda.org
SUMMARY:Eastern conference- refugee settlement
DESCRIPTION:Eastern conference- Refugee settlement
URL:https://suuganda.org/event/eastern-conference-refugee-settlement/
END:VEVENT
BEGIN:VEVENT
DTSTART;TZID=UTC:20240329T080000
DTEND;TZID=UTC:20240401T170000
DTSTAMP:20260420T170414
CREATED:20240124T115148Z
LAST-MODIFIED:20240124T115155Z
UID:54788-1711699200-1711990800@suuganda.org
SUMMARY:Easter mission-lira
DESCRIPTION:Eastern mission- lira
URL:https://suuganda.org/event/easter-mission-lira/
END:VEVENT
BEGIN:VEVENT
DTSTART;TZID=UTC:20240329T080000
DTEND;TZID=UTC:20240401T170000
DTSTAMP:20260420T170414
CREATED:20240124T114524Z
LAST-MODIFIED:20240124T114531Z
UID:54786-1711699200-1711990800@suuganda.org
SUMMARY:Easter weekend
DESCRIPTION:Eastern-weekend
URL:https://suuganda.org/event/easter-weekend/
END:VEVENT
BEGIN:VEVENT
DTSTART;TZID=UTC:20240327T080000
DTEND;TZID=UTC:20240327T170000
DTSTAMP:20260420T170414
CREATED:20240124T121415Z
LAST-MODIFIED:20240124T121440Z
UID:54807-1711526400-1711558800@suuganda.org
SUMMARY:starting of term two-nationwide
DESCRIPTION:starting of term two -nation wide
URL:https://suuganda.org/event/starting-of-term-two-nationwide/
END:VEVENT
BEGIN:VEVENT
DTSTART;TZID=UTC:20240325T080000
DTEND;TZID=UTC:20240329T170000
DTSTAMP:20260420T170414
CREATED:20240124T114318Z
LAST-MODIFIED:20240124T114954Z
UID:54784-1711353600-1711731600@suuganda.org
SUMMARY:mission-moroto
DESCRIPTION:mission- moroto
URL:https://suuganda.org/event/mission-moroto/
END:VEVENT
BEGIN:VEVENT
DTSTART;TZID=UTC:20240318T080000
DTEND;TZID=UTC:20240323T170000
DTSTAMP:20260420T170414
CREATED:20240124T113950Z
LAST-MODIFIED:20240124T114118Z
UID:54782-1710748800-1711213200@suuganda.org
SUMMARY:mission- kabale
DESCRIPTION:mission-kabale
URL:https://suuganda.org/event/mission-kabale/
END:VEVENT
BEGIN:VEVENT
DTSTART;VALUE=DATE:20240317
DTEND;VALUE=DATE:20240323
DTSTAMP:20260420T170414
CREATED:20240124T113054Z
LAST-MODIFIED:20240124T113440Z
UID:54780-1710633600-1711151999@suuganda.org
SUMMARY:staff  & volunteer orientation-camp site
DESCRIPTION:staff & volunteer orientation- camp site
URL:https://suuganda.org/event/staff-volunteer-orientation-camp-site/
END:VEVENT
BEGIN:VEVENT
DTSTART;VALUE=DATE:20240316
DTEND;VALUE=DATE:20240317
DTSTAMP:20260420T170414
CREATED:20240124T112759Z
LAST-MODIFIED:20240124T112812Z
UID:54778-1710547200-1710633599@suuganda.org
SUMMARY:National AGM-head office
DESCRIPTION:National AGM – head office
URL:https://suuganda.org/event/national-agm-head-office/
END:VEVENT
BEGIN:VEVENT
DTSTART;TZID=UTC:20240312T080000
DTEND;TZID=UTC:20240312T170000
DTSTAMP:20260420T170414
CREATED:20240123T091353Z
LAST-MODIFIED:20240123T091740Z
UID:54742-1710230400-1710262800@suuganda.org
SUMMARY:management Meeting- head office
DESCRIPTION:management meeting online- head office
URL:https://suuganda.org/event/management-meeting-head-office/
END:VEVENT
BEGIN:VEVENT
DTSTART;VALUE=DATE:20240312
DTEND;VALUE=DATE:20240316
DTSTAMP:20260420T170414
CREATED:20230710T180325Z
LAST-MODIFIED:20240123T092951Z
UID:53190-1710201600-1710547199@suuganda.org
SUMMARY:mission-Nwoyo
DESCRIPTION:mission-Nwoyo
URL:https://suuganda.org/event/mission-nwoyo/
END:VEVENT
BEGIN:VEVENT
DTSTART;TZID=UTC:20240311T080000
DTEND;TZID=UTC:20240315T170000
DTSTAMP:20260420T170414
CREATED:20240123T084421Z
LAST-MODIFIED:20240123T084430Z
UID:54727-1710144000-1710522000@suuganda.org
SUMMARY:MISSION-MUKONO
DESCRIPTION:MISSION- MUKONO
URL:https://suuganda.org/event/mission-mukono/
END:VEVENT
BEGIN:VEVENT
DTSTART;TZID=UTC:20240311T080000
DTEND;TZID=UTC:20240314T170000
DTSTAMP:20260420T170414
CREATED:20240123T092305Z
LAST-MODIFIED:20240123T092311Z
UID:54745-1710144000-1710435600@suuganda.org
SUMMARY:mission-kalangala
DESCRIPTION:mission- kalangala
URL:https://suuganda.org/event/mission-kalangala/
END:VEVENT
BEGIN:VEVENT
DTSTART;TZID=UTC:20240305T080000
DTEND;TZID=UTC:20240308T170000
DTSTAMP:20260420T170414
CREATED:20240123T085833Z
LAST-MODIFIED:20240123T085843Z
UID:54736-1709625600-1709917200@suuganda.org
SUMMARY:MISSION-APAC
DESCRIPTION:mission- Apac
URL:https://suuganda.org/event/mission-apac/
END:VEVENT
BEGIN:VEVENT
DTSTART;TZID=UTC:20240304T080000
DTEND;TZID=UTC:20240315T170000
DTSTAMP:20260420T170414
CREATED:20240123T090902Z
LAST-MODIFIED:20240123T090931Z
UID:54740-1709539200-1710522000@suuganda.org
SUMMARY:mission- Mitoma/ Rukungiri
DESCRIPTION:mission- Mitoma/Rukungiri
URL:https://suuganda.org/event/mission-mitoma-rukungiri/
END:VEVENT
BEGIN:VEVENT
DTSTART;TZID=UTC:20240304T080000
DTEND;TZID=UTC:20240314T170000
DTSTAMP:20260420T170414
CREATED:20240123T090140Z
LAST-MODIFIED:20240123T090628Z
UID:54738-1709539200-1710435600@suuganda.org
SUMMARY:mission-kyegegwa/kyenjonjo
DESCRIPTION:mission-kyegegwe/kyenjonjo
URL:https://suuganda.org/event/mission-kyegegwa-kyenjonjo/
END:VEVENT
BEGIN:VEVENT
DTSTART;TZID=UTC:20240303T080000
DTEND;TZID=UTC:20240308T170000
DTSTAMP:20260420T170414
CREATED:20240123T083943Z
LAST-MODIFIED:20240123T083950Z
UID:54725-1709452800-1709917200@suuganda.org
SUMMARY:MISSION-MOYO/ADJUMANI
DESCRIPTION:MISSION- MOYO/ ADJUMANA
URL:https://suuganda.org/event/mission-moyo-adjumani/
END:VEVENT
BEGIN:VEVENT
DTSTART;TZID=UTC:20240302T080000
DTEND;TZID=UTC:20240302T170000
DTSTAMP:20260420T170414
CREATED:20240123T082735Z
LAST-MODIFIED:20240123T082910Z
UID:54722-1709366400-1709398800@suuganda.org
SUMMARY:AGM- MBALE/LIRA
DESCRIPTION:AGM-MBALE-LIRA
URL:https://suuganda.org/event/agm-mbale-lira/
END:VEVENT
BEGIN:VEVENT
DTSTART;TZID=UTC:20240224T080000
DTEND;TZID=UTC:20240224T170000
DTSTAMP:20260420T170414
CREATED:20240123T082213Z
LAST-MODIFIED:20240123T082428Z
UID:54720-1708761600-1708794000@suuganda.org
SUMMARY:AGM- MBARARA/HOIMA
DESCRIPTION:AGM- MBARARA/HOIMA
URL:https://suuganda.org/event/agm-mbarara-hoima/
END:VEVENT
BEGIN:VEVENT
DTSTART;TZID=UTC:20240220T080000
DTEND;TZID=UTC:20240223T170000
DTSTAMP:20260420T170414
CREATED:20240123T081448Z
LAST-MODIFIED:20240123T081500Z
UID:54716-1708416000-1708707600@suuganda.org
SUMMARY:MISSION-NORTHERN REGION
DESCRIPTION:MISSION-NORTHERN REGION
URL:https://suuganda.org/event/mission-northern-region-2/
END:VEVENT
BEGIN:VEVENT
DTSTART;TZID=UTC:20240219T080000
DTEND;TZID=UTC:20240223T170000
DTSTAMP:20260420T170414
CREATED:20240123T081707Z
LAST-MODIFIED:20240123T081713Z
UID:54718-1708329600-1708707600@suuganda.org
SUMMARY:MISSION- EASTERN REGION
DESCRIPTION:MISSION- EASTERN REGION
URL:https://suuganda.org/event/mission-eastern-region/
END:VEVENT
END:VCALENDAR