BEGIN:VCALENDAR
VERSION:2.0
PRODID:-//Scripture Union Uganda - ECPv6.15.20//NONSGML v1.0//EN
CALSCALE:GREGORIAN
METHOD:PUBLISH
X-ORIGINAL-URL:https://suuganda.org
X-WR-CALDESC:Events for Scripture Union Uganda
REFRESH-INTERVAL;VALUE=DURATION:PT1H
X-Robots-Tag:noindex
X-PUBLISHED-TTL:PT1H
BEGIN:VTIMEZONE
TZID:UTC
BEGIN:STANDARD
TZOFFSETFROM:+0000
TZOFFSETTO:+0000
TZNAME:UTC
DTSTART:20250101T000000
END:STANDARD
END:VTIMEZONE
BEGIN:VEVENT
DTSTART;TZID=UTC:20260210T080000
DTEND;TZID=UTC:20260227T170000
DTSTAMP:20260420T080334
CREATED:20260205T114520Z
LAST-MODIFIED:20260205T114520Z
UID:55408-1770710400-1772211600@suuganda.org
SUMMARY:Mobilization and training of parton - Kasese and Bunyangabo(Rwenzori)
DESCRIPTION:Mobilization and training of parton – Kasese and Bunyangabo(Rwenzori)
URL:https://suuganda.org/event/mobilization-and-training-of-parton-kasese-and-bunyangaborwenzori/
END:VEVENT
BEGIN:VEVENT
DTSTART;TZID=UTC:20260216T080000
DTEND;TZID=UTC:20260220T170000
DTSTAMP:20260420T080334
CREATED:20260205T114651Z
LAST-MODIFIED:20260205T114651Z
UID:55410-1771228800-1771606800@suuganda.org
SUMMARY:Kampala Mission- Central
DESCRIPTION:Kampala Mission- Central
URL:https://suuganda.org/event/kampala-mission-central/
END:VEVENT
END:VCALENDAR