BEGIN:VCALENDAR
VERSION:2.0
PRODID:-//Scripture Union Uganda - ECPv6.15.20//NONSGML v1.0//EN
CALSCALE:GREGORIAN
METHOD:PUBLISH
X-ORIGINAL-URL:https://suuganda.org
X-WR-CALDESC:Events for Scripture Union Uganda
REFRESH-INTERVAL;VALUE=DURATION:PT1H
X-Robots-Tag:noindex
X-PUBLISHED-TTL:PT1H
BEGIN:VTIMEZONE
TZID:UTC
BEGIN:STANDARD
TZOFFSETFROM:+0000
TZOFFSETTO:+0000
TZNAME:UTC
DTSTART:20240101T000000
END:STANDARD
END:VTIMEZONE
BEGIN:VEVENT
DTSTART;TZID=UTC:20251219T080000
DTEND;TZID=UTC:20251219T170000
DTSTAMP:20260422T102918
CREATED:20251201T131211Z
LAST-MODIFIED:20251201T131211Z
UID:55342-1766131200-1766163600@suuganda.org
SUMMARY:Christmas Break
DESCRIPTION:Christmas- Break
URL:https://suuganda.org/event/christmas-break/
END:VEVENT
END:VCALENDAR