BEGIN:VCALENDAR
VERSION:2.0
PRODID:-//Scripture Union Uganda - ECPv6.15.20//NONSGML v1.0//EN
CALSCALE:GREGORIAN
METHOD:PUBLISH
X-WR-CALNAME:Scripture Union Uganda
X-ORIGINAL-URL:https://suuganda.org
X-WR-CALDESC:Events for Scripture Union Uganda
REFRESH-INTERVAL;VALUE=DURATION:PT1H
X-Robots-Tag:noindex
X-PUBLISHED-TTL:PT1H
BEGIN:VTIMEZONE
TZID:UTC
BEGIN:STANDARD
TZOFFSETFROM:+0000
TZOFFSETTO:+0000
TZNAME:UTC
DTSTART:20240101T000000
END:STANDARD
END:VTIMEZONE
BEGIN:VEVENT
DTSTART;TZID=UTC:20250724T080000
DTEND;TZID=UTC:20250724T170000
DTSTAMP:20260424T173620
CREATED:20250624T083919Z
LAST-MODIFIED:20250624T084027Z
UID:55235-1753344000-1753376400@suuganda.org
SUMMARY:VOICE training-Iganga
DESCRIPTION:VOICE-training-Iganga
URL:https://suuganda.org/event/voice-training-iganga/
END:VEVENT
END:VCALENDAR