BEGIN:VCALENDAR
VERSION:2.0
PRODID:-//Scripture Union Uganda - ECPv6.15.20//NONSGML v1.0//EN
CALSCALE:GREGORIAN
METHOD:PUBLISH
X-ORIGINAL-URL:https://suuganda.org
X-WR-CALDESC:Events for Scripture Union Uganda
REFRESH-INTERVAL;VALUE=DURATION:PT1H
X-Robots-Tag:noindex
X-PUBLISHED-TTL:PT1H
BEGIN:VTIMEZONE
TZID:UTC
BEGIN:STANDARD
TZOFFSETFROM:+0000
TZOFFSETTO:+0000
TZNAME:UTC
DTSTART:20240101T000000
END:STANDARD
END:VTIMEZONE
BEGIN:VEVENT
DTSTART;TZID=UTC:20250614T080000
DTEND;TZID=UTC:20250628T170000
DTSTAMP:20260424T190937
CREATED:20250515T073606Z
LAST-MODIFIED:20250515T073606Z
UID:55188-1749888000-1751130000@suuganda.org
SUMMARY:National Mission- Southwestern
DESCRIPTION:National Mission-Southwern
URL:https://suuganda.org/event/national-mission-southwestern/
END:VEVENT
END:VCALENDAR