BEGIN:VCALENDAR
VERSION:2.0
PRODID:-//Scripture Union Uganda - ECPv6.15.20//NONSGML v1.0//EN
CALSCALE:GREGORIAN
METHOD:PUBLISH
X-ORIGINAL-URL:https://suuganda.org
X-WR-CALDESC:Events for Scripture Union Uganda
REFRESH-INTERVAL;VALUE=DURATION:PT1H
X-Robots-Tag:noindex
X-PUBLISHED-TTL:PT1H
BEGIN:VTIMEZONE
TZID:UTC
BEGIN:STANDARD
TZOFFSETFROM:+0000
TZOFFSETTO:+0000
TZNAME:UTC
DTSTART:20240101T000000
END:STANDARD
END:VTIMEZONE
BEGIN:VEVENT
DTSTART;TZID=UTC:20250601T080000
DTEND;TZID=UTC:20250614T170000
DTSTAMP:20260424T191009
CREATED:20250515T074447Z
LAST-MODIFIED:20250515T074447Z
UID:55190-1748764800-1749920400@suuganda.org
SUMMARY:National Prayer and Fasting
DESCRIPTION:National Prayer and Fasting
URL:https://suuganda.org/event/national-prayer-and-fasting/
END:VEVENT
BEGIN:VEVENT
DTSTART;TZID=UTC:20250602T080000
DTEND;TZID=UTC:20250604T170000
DTSTAMP:20260424T191009
CREATED:20250515T075815Z
LAST-MODIFIED:20250515T075815Z
UID:55196-1748851200-1749056400@suuganda.org
SUMMARY:Nwoya Mission
DESCRIPTION:Nwoya Mission
URL:https://suuganda.org/event/nwoya-mission/
END:VEVENT
BEGIN:VEVENT
DTSTART;TZID=UTC:20250603T080000
DTEND;TZID=UTC:20250603T170000
DTSTAMP:20260424T191009
CREATED:20250515T083813Z
LAST-MODIFIED:20250515T083813Z
UID:55210-1748937600-1748970000@suuganda.org
SUMMARY:Prayer and Fasting day Soroti
DESCRIPTION:Prayer and fasting day Soroti
URL:https://suuganda.org/event/prayer-and-fasting-day-soroti/
END:VEVENT
END:VCALENDAR